Workbook

Sheet Instructions
A2: Do NOT touch anything highlighted in yellow
A4: To add a new line | B4: 1. Go to the Home Tab
B5: 2. Click on Insert drop down arrow towards the right of the screen
B6: 3. Click insert row
A8: If you make a mistake | B8: 1. Click the 'undo' button or hold down 'ctrl' and 'z' at the same time
A11: * Use the same excel file each time you complete the next month so the calculations are correct
A12: * Due date for incentives will be the 7th of each month
A13: * If you have troubles with calculations please send to Carrie at incentive@padairy.org
A43: *See incentive guidelines on members only for more clarification*

Sheet June
B1: County
B3: Princess:
B4: Alternates
B5: Jr Reps
B6: Committee
B9: School & Youth
B10: # of promotions | C10: Date | D10: School, Education, or Organization | E10: # of Students | F10: Description of Promotion | G10: Done By P. | H10: Alt. | I10: Jr Rep | J10: Comm. | K10: Key Message
B21: Total School & Youth Promotions | E21: =SUM(B11:B20) -> 0 | F21: Total People Reached | I21: =SUM(E11:E20) -> 0
B24: Media/Print or PSA's
B25: # Done | C25: Date & Name of Paper or Radio Station | E25: Article Title | G25: Done By P. | H25: Alt. | I25: Jr Rep | J25: Comm. | K25: Key Message
B35: Total Media/Print or PSA's | E35: =SUM(B26:B34) -> 0
B39: Website/Social Media
B40: *Only submit 3 media posts per month: a personal and key message must be included to count. Must be on the County Dairy Promotion Page and not a personal page. Please copy and paste the post link into the row or in a word document file.
B41: Date | C41: Website or Social Media | E41: What did you update? Video or post? (Attach updates on this report) | G41: Done By P. | H41: Alt. | I41: Jr Rep | J41: Comm. | K41: Key Message
B45: Total Web/Social Media | E45: =SUM(B42:B44) -> 0
B49: Booth Promotions
B50: # of promotions | C50: Date | D50: Name of Store, Mall, Fair, Fundraiser | E50: # of People | F50: Activity (booth, game, fundraiser, etc) | G50: Done By P. | H50: Alt. | I50: Jr Rep | J50: Comm. | K50: Key Message
B60: Total Booth Promotions | E60: =SUM(B51:B59) -> 0 | F60: Total People Reached | I60: =SUM(E51:E59) -> 0
B64: Adult Audience
B65: # of promotions | C65: Date | D65: Group Name & Town | E65: # of People | F65: Presentation Description (Speech, skit, booth, etc.) | G65: Done By P. | H65: Alt. | I65: Jr Rep | J65: Comm. | K65: Key Message
B75: Total Adult Promotions | E75: =SUM(B66:B74) -> 0 | F75: Total People Reached | I75: =SUM(E66:E74) -> 0
B81: Special Events
B82: # of promotions | C82: Date | D82: Event | E82: # of People | F82: Presentation Description (Speech, skit, booth, etc.) | G82: Done By P. | H82: Alt. | I82: Jr Rep | J82: Comm. | K82: Key Message
B92: Total Special Events | E92: =SUM(B83:B91) -> 0 | F92: Total People Reached | I92: =SUM(E83:E91) -> 0
B98: Fill A Glass With Hope
B99: Amount of Money | C99: Date | D99: Event | E99: # of People | F99: Description of Event, Food Bank Name | G99: Done By P. | H99: Alt. | I99: Jr Rep | J99: Comm. | K99: Key Message
B109: Fill A Glass With Hope Money Raised | E109: =SUM(B100:B108) -> 0 | F109: Total People Reached | I109: =SUM(E100:E108) -> 0
B114: State Events
B115: # of Promotions | C115: Date | D115: Event | E115: Names of those Attended | G115: Done By P. | H115: Alt. | I115: Jr Rep | J115: Comm. | K115: Key Message
B125: State Events | E125: =SUM(B116:B124) -> 0

Sheet July
B1: County
B3: Princess:
B4: Alternates
B5: Jr Reps
B6: Committee
B9: School & Youth
B10: # of promotions | C10: Date | D10: School, Education, or Organization | E10: # of Students | F10: Description of Promotion | G10: Done By P. | H10: Alt. | I10: Jr Rep | J10: Comm. | K10: Key Message
B20: Total School & Youth Promotions | E20: =SUM(B11:B19) -> 0 | F20: Total People Reached | I20: =SUM(E11:E19) -> 0
B23: Media/Print or PSA's
B24: # Done | C24: Date & Name of Paper or Radio Station | E24: Article Title | G24: Done By P. | H24: Alt. | I24: Jr Rep | J24: Comm. | K24: Key Message
B34: Total Media/Print or PSA's | E34: =SUM(B25:B33) -> 0
B37: Website/Social Media
B38: *Only submit 3 media posts per month: a personal and key message must be included to count. Must be on the County Dairy Promotion Page and not a personal page. Please copy and paste the post link into the row or in a word document file.
B39: Date | C39: Website or Social Media | E39: What did you update? Video or post? (Attach updates on this report) | G39: Done By P. | H39: Alt. | I39: Jr Rep | J39: Comm. | K39: Key Message
B43: Total Web/Social Media | E43: =SUM(B40:B42) -> 0
B46: Booth Promotions
B47: # of promotions | C47: Date | D47: Name of Store, Mall, Fair, Fundraiser | E47: # of People | F47: Activity (booth, game, fundraiser, etc) | G47: Done By P. | H47: Alt. | I47: Jr Rep | J47: Comm. | K47: Key Message
B57: Total Booth Promotions | E57: =SUM(B48:B56) -> 0 | F57: Total People Reached | I57: =SUM(E48:E56) -> 0
B61: Adult Audience
B62: # of promotions | C62: Date | D62: Group Name & Town | E62: # of People | F62: Presentation Description (Speech, skit, booth, etc.) | G62: Done By P. | H62: Alt. | I62: Jr Rep | J62: Comm. | K62: Key Message
B72: Total Adult Promotions | E72: =SUM(B63:B71) -> 0 | F72: Total People Reached | I72: =SUM(E63:E71) -> 0
B78: Special Events
B79: # of promotions | C79: Date | D79: Event | E79: # of People | F79: Presentation Description (Speech, skit, booth, etc.) | G79: Done By P. | H79: Alt. | I79: Jr Rep | J79: Comm. | K79: Key Message
B89: Total Special Events | E89: =SUM(B80:B88) -> 0 | F89: Total People Reached | I89: =SUM(E80:E88) -> 0
B95: Fill A Glass With Hope
B96: Amount of Money | C96: Date | D96: Event | E96: # of People | F96: Description of Event, Food Bank Name | G96: Done By P. | H96: Alt. | I96: Jr Rep | J96: Comm. | K96: Key Message
B106: Fill A Glass With Hope Money Raised | E106: =SUM(B97:B105) -> 0 | F106: Total People Reached | I106: =SUM(E97:E105) -> 0
B111: State Events
B112: # of Promotions | C112: Date | D112: Event | E112: Names of those Attended | G112: Done By P. | H112: Alt. | I112: Jr Rep | J112: Comm. | K112: Key Message
B122: State Events | E122: =SUM(B113:B121) -> 0

Sheet August
B1: County
B3: Princess:
B4: Alternates
B5: Jr Reps
B6: Committee
B9: School & Youth
B10: # of promotions | C10: Date | D10: School, Education, or Organization | E10: # of Students | F10: Description of Promotion | G10: Done By P. | H10: Alt. | I10: Jr Rep | J10: Comm. | K10: Key Message
B20: Total School & Youth Promotions | E20: =SUM(B11:B19) -> 0 | F20: Total People Reached | I20: =SUM(E11:E19) -> 0
B23: Media/Print or PSA's
B24: # Done | C24: Date & Name of Paper or Radio Station | E24: Article Title | G24: Done By P. | H24: Alt. | I24: Jr Rep | J24: Comm. | K24: Key Message
B34: Total Media/Print or PSA's | E34: =SUM(B25:B33) -> 0
B37: Website/Social Media
B38: *Only submit 3 media posts per month: a personal and key message must be included to count. Must be on the County Dairy Promotion Page and not a personal page. Please copy and paste the post link into the row or in a word document file.
B39: Date | C39: Website or Social Media | E39: What did you update? Video or post? (Attach updates on this report) | G39: Done By P. | H39: Alt. | I39: Jr Rep | J39: Comm. | K39: Key Message
B43: Total Web/Social Media | E43: =SUM(B40:B42) -> 0
B46: Booth Promotions
B47: # of promotions | C47: Date | D47: Name of Store, Mall, Fair, Fundraiser | E47: # of People | F47: Activity (booth, game, fundraiser, etc) | G47: Done By P. | H47: Alt. | I47: Jr Rep | J47: Comm. | K47: Key Message
B57: Total Booth Promotions | E57: =SUM(B48:B56) -> 0 | F57: Total People Reached | I57: =SUM(E48:E56) -> 0
B61: Adult Audience
B62: # of promotions | C62: Date | D62: Group Name & Town | E62: # of People | F62: Presentation Description (Speech, skit, booth, etc.) | G62: Done By P. | H62: Alt. | I62: Jr Rep | J62: Comm. | K62: Key Message
B72: Total Adult Promotions | E72: =SUM(B63:B71) -> 0 | F72: Total People Reached | I72: =SUM(E63:E71) -> 0
B78: Special Events
B79: # of promotions | C79: Date | D79: Event | E79: # of People | F79: Presentation Description (Speech, skit, booth, etc.) | G79: Done By P. | H79: Alt. | I79: Jr Rep | J79: Comm. | K79: Key Message
B89: Total Special Events | E89: =SUM(B80:B88) -> 0 | F89: Total People Reached | I89: =SUM(E80:E88) -> 0
B95: Fill A Glass With Hope
B96: Amount of Money | C96: Date | D96: Event | E96: # of People | F96: Description of Event, Food Bank Name | G96: Done By P. | H96: Alt. | I96: Jr Rep | J96: Comm. | K96: Key Message
B106: Fill A Glass With Hope Money Raised | E106: =SUM(B97:B105) -> 0 | F106: Total People Reached | I106: =SUM(E97:E105) -> 0
B111: State Events
B112: # of Promotions | C112: Date | D112: Event | E112: Names of those Attended | G112: Done By P. | H112: Alt. | I112: Jr Rep | J112: Comm. | K112: Key Message
B122: State Events | E122: =SUM(B113:B121) -> 0

Sheet September
B1: County
B3: Princess:
B4: Alternates
B5: Jr Reps
B6: Committee
B9: School & Youth
B10: # of promotions | C10: Date | D10: School, Education, or Organization | E10: # of Students | F10: Description of Promotion | G10: Done By P. | H10: Alt. | I10: Jr Rep | J10: Comm. | K10: Key Message
B20: Total School & Youth Promotions | E20: =SUM(B11:B19) -> 0 | F20: Total People Reached | I20: =SUM(E11:E19) -> 0
B23: Media/Print or PSA's
B24: # Done | C24: Date & Name of Paper or Radio Station | E24: Article Title | G24: Done By P. | H24: Alt. | I24: Jr Rep | J24: Comm. | K24: Key Message
B34: Total Media/Print or PSA's | E34: =SUM(B25:B33) -> 0
B37: Website/Social Media
B38: *Only submit 3 media posts per month: a personal and key message must be included to count. Must be on the County Dairy Promotion Page and not a personal page. Please copy and paste the post link into the row or in a word document file.
B39: Date | C39: Website or Social Media | E39: What did you update? Video or post? (Attach updates on this report) | G39: Done By P. | H39: Alt. | I39: Jr Rep | J39: Comm. | K39: Key Message
B43: Total Web/Social Media | E43: =SUM(B40:B42) -> 0
B47: Booth Promotions
B48: # of promotions | C48: Date | D48: Name of Store, Mall, Fair, Fundraiser | E48: # of People | F48: Activity (booth, game, fundraiser, etc) | G48: Done By P. | H48: Alt. | I48: Jr Rep | J48: Comm. | K48: Key Message
B58: Total Booth Promotions | E58: =SUM(B49:B57) -> 0 | F58: Total People Reached | I58: =SUM(E49:E57) -> 0
B62: Adult Audience
B63: # of promotions | C63: Date | D63: Group Name & Town | E63: # of People | F63: Presentation Description (Speech, skit, booth, etc.) | G63: Done By P. | H63: Alt. | I63: Jr Rep | J63: Comm. | K63: Key Message
B73: Total Adult Promotions | E73: =SUM(B64:B72) -> 0 | F73: Total People Reached | I73: =SUM(E64:E72) -> 0
B79: Special Events
B80: # of promotions | C80: Date | D80: Event | E80: # of People | F80: Presentation Description (Speech, skit, booth, etc.) | G80: Done By P. | H80: Alt. | I80: Jr Rep | J80: Comm. | K80: Key Message
B90: Total Special Events | E90: =SUM(B81:B89) -> 0 | F90: Total People Reached | I90: =SUM(E81:E89) -> 0
B96: Fill A Glass With Hope
B97: Amount of Money | C97: Date | D97: Event | E97: # of People | F97: Description of Event, Food Bank Name | G97: Done By P. | H97: Alt. | I97: Jr Rep | J97: Comm. | K97: Key Message
B107: Fill A Glass With Hope Money Raised | E107: =SUM(B98:B106) -> 0 | F107: Total People Reached | I107: =SUM(E98:E106) -> 0
B112: State Events
B113: # of Promotions | C113: Date | D113: Event | E113: Names of those Attended | G113: Done By P. | H113: Alt. | I113: Jr Rep | J113: Comm. | K113: Key Message
B123: State Events | E123: =SUM(B114:B122) -> 0

Sheet October
B1: County
B3: Princess:
B4: Alternates
B5: Jr Reps
B6: Committee
B9: School & Youth
B10: # of promotions | C10: Date | D10: School, Education, or Organization | E10: # of Students | F10: Description of Promotion | G10: Done By P. | H10: Alt. | I10: Jr Rep | J10: Comm. | K10: Key Message
B20: Total School & Youth Promotions | E20: =SUM(B11:B19) -> 0 | F20: Total People Reached | I20: =SUM(E11:E19) -> 0
B23: Media/Print or PSA's
B24: # Done | C24: Date & Name of Paper or Radio Station | E24: Article Title | G24: Done By P. | H24: Alt. | I24: Jr Rep | J24: Comm. | K24: Key Message
B34: Total Media/Print or PSA's | E34: =SUM(B25:B33) -> 0
B37: Website/Social Media
B38: *Only submit 3 media posts per month: a personal and key message must be included to count. Must be on the County Dairy Promotion Page and not a personal page. Please copy and paste the post link into the row or in a word document file.
B39: Date | C39: Website or Social Media | E39: What did you update? Video or post? (Attach updates on this report) | G39: Done By P. | H39: Alt. | I39: Jr Rep | J39: Comm. | K39: Key Message
B43: Total Web/Social Media | E43: =SUM(B40:B42) -> 0
B47: Booth Promotions
B48: # of promotions | C48: Date | D48: Name of Store, Mall, Fair, Fundraiser | E48: # of People | F48: Activity (booth, game, fundraiser, etc) | G48: Done By P. | H48: Alt. | I48: Jr Rep | J48: Comm. | K48: Key Message
B58: Total Booth Promotions | E58: =SUM(B49:B57) -> 0 | F58: Total People Reached | I58: =SUM(E49:E57) -> 0
B62: Adult Audience
B63: # of promotions | C63: Date | D63: Group Name & Town | E63: # of People | F63: Presentation Description (Speech, skit, booth, etc.) | G63: Done By P. | H63: Alt. | I63: Jr Rep | J63: Comm. | K63: Key Message
B73: Total Adult Promotions | E73: =SUM(B64:B72) -> 0 | F73: Total People Reached | I73: =SUM(E64:E72) -> 0
B79: Special Events
B80: # of promotions | C80: Date | D80: Event | E80: # of People | F80: Presentation Description (Speech, skit, booth, etc.) | G80: Done By P. | H80: Alt. | I80: Jr Rep | J80: Comm. | K80: Key Message
B90: Total Special Events | E90: =SUM(B81:B89) -> 0 | F90: Total People Reached | I90: =SUM(E81:E89) -> 0
B96: Fill A Glass With Hope
B97: Amount of Money | C97: Date | D97: Event | E97: # of People | F97: Description of Event, Food Bank Name | G97: Done By P. | H97: Alt. | I97: Jr Rep | J97: Comm. | K97: Key Message
B107: Fill A Glass With Hope Money Raised | E107: =SUM(B98:B106) -> 0 | F107: Total People Reached | I107: =SUM(E98:E106) -> 0
B112: State Events
B113: # of Promotions | C113: Date | D113: Event | E113: Names of those Attended | G113: Done By P. | H113: Alt. | I113: Jr Rep | J113: Comm. | K113: Key Message
B123: State Events | E123: =SUM(B114:B122) -> 0

Sheet November
B1: County
B3: Princess:
B4: Alternates
B5: Jr Reps
B6: Committee
B9: School & Youth
B10: # of promotions | C10: Date | D10: School, Education, or Organization | E10: # of Students | F10: Description of Promotion | G10: Done By P. | H10: Alt. | I10: Jr Rep | J10: Comm. | K10: Key Message
B20: Total School & Youth Promotions | E20: =SUM(B11:B19) -> 0 | F20: Total People Reached | I20: =SUM(E11:E19) -> 0
B23: Media/Print or PSA's
B24: # Done | C24: Date & Name of Paper or Radio Station | E24: Article Title | G24: Done By P. | H24: Alt. | I24: Jr Rep | J24: Comm. | K24: Key Message
B34: Total Media/Print or PSA's | E34: =SUM(B25:B33) -> 0
B37: Website/Social Media
B38: *Only submit 3 media posts per month: a personal and key message must be included to count. Must be on the County Dairy Promotion Page and not a personal page. Please copy and paste the post link into the row or in a word document file.
B39: Date | C39: Website or Social Media | E39: What did you update? Video or post? (Attach updates on this report) | G39: Done By P. | H39: Alt. | I39: Jr Rep | J39: Comm. | K39: Key Message
B43: Total Web/Social Media | E43: =SUM(B40:B42) -> 0
B47: Booth Promotions
B48: # of promotions | C48: Date | D48: Name of Store, Mall, Fair, Fundraiser | E48: # of People | F48: Activity (booth, game, fundraiser, etc) | G48: Done By P. | H48: Alt. | I48: Jr Rep | J48: Comm. | K48: Key Message
B58: Total Booth Promotions | E58: =SUM(B49:B57) -> 0 | F58: Total People Reached | I58: =SUM(E49:E57) -> 0
B62: Adult Audience
B63: # of promotions | C63: Date | D63: Group Name & Town | E63: # of People | F63: Presentation Description (Speech, skit, booth, etc.) | G63: Done By P. | H63: Alt. | I63: Jr Rep | J63: Comm. | K63: Key Message
B73: Total Adult Promotions | E73: =SUM(B64:B72) -> 0 | F73: Total People Reached | I73: =SUM(E64:E72) -> 0
B79: Special Events
B80: # of promotions | C80: Date | D80: Event | E80: # of People | F80: Presentation Description (Speech, skit, booth, etc.) | G80: Done By P. | H80: Alt. | I80: Jr Rep | J80: Comm. | K80: Key Message
B90: Total Special Events | E90: =SUM(B81:B89) -> 0 | F90: Total People Reached | I90: =SUM(E81:E89) -> 0
B96: Fill A Glass With Hope
B97: Amount of Money | C97: Date | D97: Event | E97: # of People | F97: Description of Event, Food Bank Name | G97: Done By P. | H97: Alt. | I97: Jr Rep | J97: Comm. | K97: Key Message
B107: Fill A Glass With Hope Money Raised | E107: =SUM(B98:B106) -> 0 | F107: Total People Reached | I107: =SUM(E98:E106) -> 0
B112: State Events
B113: # of Promotions | C113: Date | D113: Event | E113: Names of those Attended | G113: Done By P. | H113: Alt. | I113: Jr Rep | J113: Comm. | K113: Key Message
B123: State Events | E123: =SUM(B114:B122) -> 0

Sheet December
B1: County
B3: Princess:
B4: Alternates
B5: Jr Reps
B6: Committee
B9: School & Youth
B10: # of promotions | C10: Date | D10: School, Education, or Organization | E10: # of Students | F10: Description of Promotion | G10: Done By P. | H10: Alt. | I10: Jr Rep | J10: Comm. | K10: Key Message
B20: Total School & Youth Promotions | E20: =SUM(B11:B19) -> 0 | F20: Total People Reached | I20: =SUM(E11:E19) -> 0
B23: Media/Print or PSA's
B24: # Done | C24: Date & Name of Paper or Radio Station | E24: Article Title | G24: Done By P. | H24: Alt. | I24: Jr Rep | J24: Comm. | K24: Key Message
B34: Total Media/Print or PSA's | E34: =SUM(B25:B33) -> 0
B37: Website/Social Media
B38: *Only submit 3 media posts per month: a personal and key message must be included to count. Must be on the County Dairy Promotion Page and not a personal page. Please copy and paste the post link into the row or in a word document file.
B39: Date | C39: Website or Social Media | E39: What did you update? Video or post? (Attach updates on this report) | G39: Done By P. | H39: Alt. | I39: Jr Rep | J39: Comm. | K39: Key Message
B43: Total Web/Social Media | E43: =SUM(B40:B42) -> 0
B47: Booth Promotions
B48: # of promotions | C48: Date | D48: Name of Store, Mall, Fair, Fundraiser | E48: # of People | F48: Activity (booth, game, fundraiser, etc) | G48: Done By P. | H48: Alt. | I48: Jr Rep | J48: Comm. | K48: Key Message
B58: Total Booth Promotions | E58: =SUM(B49:B57) -> 0 | F58: Total People Reached | I58: =SUM(E49:E57) -> 0
B62: Adult Audience
B63: # of promotions | C63: Date | D63: Group Name & Town | E63: # of People | F63: Presentation Description (Speech, skit, booth, etc.) | G63: Done By P. | H63: Alt. | I63: Jr Rep | J63: Comm. | K63: Key Message
B73: Total Adult Promotions | E73: =SUM(B64:B72) -> 0 | F73: Total People Reached | I73: =SUM(E64:E72) -> 0
B79: Special Events
B80: # of promotions | C80: Date | D80: Event | E80: # of People | F80: Presentation Description (Speech, skit, booth, etc.) | G80: Done By P. | H80: Alt. | I80: Jr Rep | J80: Comm. | K80: Key Message
B90: Total Special Events | E90: =SUM(B81:B89) -> 0 | F90: Total People Reached | I90: =SUM(E81:E89) -> 0
B96: Fill A Glass With Hope
B97: Amount of Money | C97: Date | D97: Event | E97: # of People | F97: Description of Event, Food Bank Name | G97: Done By P. | H97: Alt. | I97: Jr Rep | J97: Comm. | K97: Key Message
B107: Fill A Glass With Hope Money Raised | E107: =SUM(B98:B106) -> 0 | F107: Total People Reached | I107: =SUM(E98:E106) -> 0
B112: State Events
B113: # of Promotions | C113: Date | D113: Event | E113: Names of those Attended | G113: Done By P. | H113: Alt. | I113: Jr Rep | J113: Comm. | K113: Key Message
B123: State Events | E123: =SUM(B114:B122) -> 0

Sheet January
B1: County
B3: Princess:
B4: Alternates
B5: Jr Reps
B6: Committee
B9: School & Youth
B10: # of promotions | C10: Date | D10: School, Education, or Organization | E10: # of Students | F10: Description of Promotion | G10: Done By P. | H10: Alt. | I10: Jr Rep | J10: Comm. | K10: Key Message
B20: Total School & Youth Promotions | E20: =SUM(B11:B19) -> 0 | F20: Total People Reached | I20: =SUM(E11:E19) -> 0
B23: Media/Print or PSA's
B24: # Done | C24: Date & Name of Paper or Radio Station | E24: Article Title | G24: Done By P. | H24: Alt. | I24: Jr Rep | J24: Comm. | K24: Key Message
B34: Total Media/Print or PSA's | E34: =SUM(B25:B33) -> 0
B37: Website/Social Media
B38: *Only submit 3 media posts per month: a personal and key message must be included to count. Must be on the County Dairy Promotion Page and not a personal page. Please copy and paste the post link into the row or in a word document file.
B39: Date | C39: Website or Social Media | E39: What did you update? Video or post? (Attach updates on this report) | G39: Done By P. | H39: Alt. | I39: Jr Rep | J39: Comm. | K39: Key Message
B43: Total Web/Social Media | E43: =SUM(B40:B42) -> 0
B47: Booth Promotions
B48: # of promotions | C48: Date | D48: Name of Store, Mall, Fair, Fundraiser | E48: # of People | F48: Activity (booth, game, fundraiser, etc) | G48: Done By P. | H48: Alt. | I48: Jr Rep | J48: Comm. | K48: Key Message
B58: Total Booth Promotions | E58: =SUM(B49:B57) -> 0 | F58: Total People Reached | I58: =SUM(E49:E57) -> 0
B62: Adult Audience
B63: # of promotions | C63: Date | D63: Group Name & Town | E63: # of People | F63: Presentation Description (Speech, skit, booth, etc.) | G63: Done By P. | H63: Alt. | I63: Jr Rep | J63: Comm. | K63: Key Message
B73: Total Adult Promotions | E73: =SUM(B64:B72) -> 0 | F73: Total People Reached | I73: =SUM(E64:E72) -> 0
B79: Special Events
B80: # of promotions | C80: Date | D80: Event | E80: # of People | F80: Presentation Description (Speech, skit, booth, etc.) | G80: Done By P. | H80: Alt. | I80: Jr Rep | J80: Comm. | K80: Key Message
B90: Total Special Events | E90: =SUM(B81:B89) -> 0 | F90: Total People Reached | I90: =SUM(E81:E89) -> 0
B96: Fill A Glass With Hope
B97: Amount of Money | C97: Date | D97: Event | E97: # of People | F97: Description of Event, Food Bank Name | G97: Done By P. | H97: Alt. | I97: Jr Rep | J97: Comm. | K97: Key Message
B107: Fill A Glass With Hope Money Raised | E107: =SUM(B98:B106) -> 0 | F107: Total People Reached | I107: =SUM(E98:E106) -> 0
B112: State Events
B113: # of Promotions | C113: Date | D113: Event | E113: Names of those Attended | G113: Done By P. | H113: Alt. | I113: Jr Rep | J113: Comm. | K113: Key Message
B123: State Events | E123: =SUM(B114:B122) -> 0

Sheet February
B1: County
B3: Princess:
B4: Alternates
B5: Jr Reps
B6: Committee
B9: School & Youth
B10: # of promotions | C10: Date | D10: School, Education, or Organization | E10: # of Students | F10: Description of Promotion | G10: Done By P. | H10: Alt. | I10: Jr Rep | J10: Comm. | K10: Key Message
B20: Total School & Youth Promotions | E20: =SUM(B11:B19) -> 0 | F20: Total People Reached | I20: =SUM(E11:E19) -> 0
B23: Media/Print or PSA's
B24: # Done | C24: Date & Name of Paper or Radio Station | E24: Article Title | G24: Done By P. | H24: Alt. | I24: Jr Rep | J24: Comm. | K24: Key Message
B34: Total Media/Print or PSA's | E34: =SUM(B25:B33) -> 0
B37: Website/Social Media
B38: *Only submit 3 media posts per month: a personal and key message must be included to count. Must be on the County Dairy Promotion Page and not a personal page. Please copy and paste the post link into the row or in a word document file.
B39: Date | C39: Website or Social Media | E39: What did you update? Video or post? (Attach updates on this report) | G39: Done By P. | H39: Alt. | I39: Jr Rep | J39: Comm. | K39: Key Message
B43: Total Web/Social Media | E43: =SUM(B40:B42) -> 0
B47: Booth Promotions
B48: # of promotions | C48: Date | D48: Name of Store, Mall, Fair, Fundraiser | E48: # of People | F48: Activity (booth, game, fundraiser, etc) | G48: Done By P. | H48: Alt. | I48: Jr Rep | J48: Comm. | K48: Key Message
B58: Total Booth Promotions | E58: =SUM(B49:B57) -> 0 | F58: Total People Reached | I58: =SUM(E49:E57) -> 0
B62: Adult Audience
B63: # of promotions | C63: Date | D63: Group Name & Town | E63: # of People | F63: Presentation Description (Speech, skit, booth, etc.) | G63: Done By P. | H63: Alt. | I63: Jr Rep | J63: Comm. | K63: Key Message
B73: Total Adult Promotions | E73: =SUM(B64:B72) -> 0 | F73: Total People Reached | I73: =SUM(E64:E72) -> 0
B79: Special Events
B80: # of promotions | C80: Date | D80: Event | E80: # of People | F80: Presentation Description (Speech, skit, booth, etc.) | G80: Done By P. | H80: Alt. | I80: Jr Rep | J80: Comm. | K80: Key Message
B90: Total Special Events | E90: =SUM(B81:B89) -> 0 | F90: Total People Reached | I90: =SUM(E81:E89) -> 0
B96: Fill A Glass With Hope
B97: Amount of Money | C97: Date | D97: Event | E97: # of People | F97: Description of Event, Food Bank Name | G97: Done By P. | H97: Alt. | I97: Jr Rep | J97: Comm. | K97: Key Message
B107: Fill A Glass With Hope Money Raised | E107: =SUM(B98:B106) -> 0 | F107: Total People Reached | I107: =SUM(E98:E106) -> 0
B112: State Events
B113: # of Promotions | C113: Date | D113: Event | E113: Names of those Attended | G113: Done By P. | H113: Alt. | I113: Jr Rep | J113: Comm. | K113: Key Message
B123: State Events | E123: =SUM(B114:B122) -> 0

Sheet March
B1: County
B3: Princess:
B4: Alternates
B5: Jr Reps
B6: Committee
B9: School & Youth
B10: # of promotions | C10: Date | D10: School, Education, or Organization | E10: # of Students | F10: Description of Promotion | G10: Done By P. | H10: Alt. | I10: Jr Rep | J10: Comm. | K10: Key Message
B20: Total School & Youth Promotions | E20: =SUM(B11:B19) -> 0 | F20: Total People Reached | I20: =SUM(E11:E19) -> 0
B23: Media/Print or PSA's
B24: # Done | C24: Date & Name of Paper or Radio Station | E24: Article Title | G24: Done By P. | H24: Alt. | I24: Jr Rep | J24: Comm. | K24: Key Message
B34: Total Media/Print or PSA's | E34: =SUM(B25:B33) -> 0
B37: Website/Social Media
B38: *Only submit 3 media posts per month: a personal and key message must be included to count. Must be on the County Dairy Promotion Page and not a personal page. Please copy and paste the post link into the row or in a word document file.
B39: Date | C39: Website or Social Media | E39: What did you update? Video or post? (Attach updates on this report) | G39: Done By P. | H39: Alt. | I39: Jr Rep | J39: Comm. | K39: Key Message
B43: Total Web/Social Media | E43: =SUM(B40:B42) -> 0
B47: Booth Promotions
B48: # of promotions | C48: Date | D48: Name of Store, Mall, Fair, Fundraiser | E48: # of People | F48: Activity (booth, game, fundraiser, etc) | G48: Done By P. | H48: Alt. | I48: Jr Rep | J48: Comm. | K48: Key Message
B58: Total Booth Promotions | E58: =SUM(B49:B57) -> 0 | F58: Total People Reached | I58: =SUM(E49:E57) -> 0
B62: Adult Audience
B63: # of promotions | C63: Date | D63: Group Name & Town | E63: # of People | F63: Presentation Description (Speech, skit, booth, etc.) | G63: Done By P. | H63: Alt. | I63: Jr Rep | J63: Comm. | K63: Key Message
B73: Total Adult Promotions | E73: =SUM(B64:B72) -> 0 | F73: Total People Reached | I73: =SUM(E64:E72) -> 0
B79: Special Events
B80: # of promotions | C80: Date | D80: Event | E80: # of People | F80: Presentation Description (Speech, skit, booth, etc.) | G80: Done By P. | H80: Alt. | I80: Jr Rep | J80: Comm. | K80: Key Message
B90: Total Special Events | E90: =SUM(B81:B89) -> 0 | F90: Total People Reached | I90: =SUM(E81:E89) -> 0
B96: Fill A Glass With Hope
B97: Amount of Money | C97: Date | D97: Event | E97: # of People | F97: Description of Event, Food Bank Name | G97: Done By P. | H97: Alt. | I97: Jr Rep | J97: Comm. | K97: Key Message
B107: Fill A Glass With Hope Money Raised | E107: =SUM(B98:B106) -> 0 | F107: Total People Reached | I107: =SUM(E98:E106) -> 0
B112: State Events
B113: # of Promotions | C113: Date | D113: Event | E113: Names of those Attended | G113: Done By P. | H113: Alt. | I113: Jr Rep | J113: Comm. | K113: Key Message
B123: State Events | E123: =SUM(B114:B122) -> 0

Sheet April
B1: County
B3: Princess:
B4: Alternates
B5: Jr Reps
B6: Committee
B9: School & Youth
B10: # of promotions | C10: Date | D10: School, Education, or Organization | E10: # of Students | F10: Description of Promotion | G10: Done By P. | H10: Alt. | I10: Jr Rep | J10: Comm. | K10: Key Message
B20: Total School & Youth Promotions | E20: =SUM(B11:B19) -> 0 | F20: Total People Reached | I20: =SUM(E11:E19) -> 0
B23: Media/Print or PSA's
B24: # Done | C24: Date & Name of Paper or Radio Station | E24: Article Title | G24: Done By P. | H24: Alt. | I24: Jr Rep | J24: Comm. | K24: Key Message
B34: Total Media/Print or PSA's | E34: =SUM(B25:B33) -> 0
B37: Website/Social Media
B38: *Only submit 3 media posts per month: a personal and key message must be included to count. Must be on the County Dairy Promotion Page and not a personal page. Please copy and paste the post link into the row or in a word document file.
B39: Date | C39: Website or Social Media | E39: What did you update? Video or post? (Attach updates on this report) | G39: Done By P. | H39: Alt. | I39: Jr Rep | J39: Comm. | K39: Key Message
B43: Total Web/Social Media | E43: =SUM(B40:B42) -> 0
B47: Booth Promotions
B48: # of promotions | C48: Date | D48: Name of Store, Mall, Fair, Fundraiser | E48: # of People | F48: Activity (booth, game, fundraiser, etc) | G48: Done By P. | H48: Alt. | I48: Jr Rep | J48: Comm. | K48: Key Message
B58: Total Booth Promotions | E58: =SUM(B49:B57) -> 0 | F58: Total People Reached | I58: =SUM(E49:E57) -> 0
B62: Adult Audience
B63: # of promotions | C63: Date | D63: Group Name & Town | E63: # of People | F63: Presentation Description (Speech, skit, booth, etc.) | G63: Done By P. | H63: Alt. | I63: Jr Rep | J63: Comm. | K63: Key Message
B73: Total Adult Promotions | E73: =SUM(B64:B72) -> 0 | F73: Total People Reached | I73: =SUM(E64:E72) -> 0
B79: Special Events
B80: # of promotions | C80: Date | D80: Event | E80: # of People | F80: Presentation Description (Speech, skit, booth, etc.) | G80: Done By P. | H80: Alt. | I80: Jr Rep | J80: Comm. | K80: Key Message
B90: Total Special Events | E90: =SUM(B81:B89) -> 0 | F90: Total People Reached | I90: =SUM(E81:E89) -> 0
B96: Fill A Glass With Hope
B97: Amount of Money | C97: Date | D97: Event | E97: # of People | F97: Description of Event, Food Bank Name | G97: Done By P. | H97: Alt. | I97: Jr Rep | J97: Comm. | K97: Key Message
B107: Fill A Glass With Hope Money Raised | E107: =SUM(B98:B106) -> 0 | F107: Total People Reached | I107: =SUM(E98:E106) -> 0
B112: State Events
B113: # of Promotions | C113: Date | D113: Event | E113: Names of those Attended | G113: Done By P. | H113: Alt. | I113: Jr Rep | J113: Comm. | K113: Key Message
B123: State Events | E123: =SUM(B114:B122) -> 0

Sheet May
B1: County
B3: Princess:
B4: Alternates
B5: Jr Reps
B6: Committee
B9: School & Youth
B10: # of promotions | C10: Date | D10: School, Education, or Organization | E10: # of Students | F10: Description of Promotion | G10: Done By P. | H10: Alt. | I10: Jr Rep | J10: Comm. | K10: Key Message
B20: Total School & Youth Promotions | E20: =SUM(B11:B19) -> 0 | F20: Total People Reached | I20: =SUM(E11:E19) -> 0
B23: Media/Print or PSA's
B24: # Done | C24: Date & Name of Paper or Radio Station | E24: Article Title | G24: Done By P. | H24: Alt. | I24: Jr Rep | J24: Comm. | K24: Key Message
B34: Total Media/Print or PSA's | E34: =SUM(B25:B33) -> 0
B37: Website/Social Media
B38: *Only submit 3 media posts per month: a personal and key message must be included to count. Must be on the County Dairy Promotion Page and not a personal page. Please copy and paste the post link into the row or in a word document file.
B39: Date | C39: Website or Social Media | E39: What did you update? Video or post? (Attach updates on this report) | G39: Done By P. | H39: Alt. | I39: Jr Rep | J39: Comm. | K39: Key Message
B43: Total Web/Social Media | E43: =SUM(B40:B42) -> 0
B47: Booth Promotions
B48: # of promotions | C48: Date | D48: Name of Store, Mall, Fair, Fundraiser | E48: # of People | F48: Activity (booth, game, fundraiser, etc) | G48: Done By P. | H48: Alt. | I48: Jr Rep | J48: Comm. | K48: Key Message
B58: Total Booth Promotions | E58: =SUM(B49:B57) -> 0 | F58: Total People Reached | I58: =SUM(E49:E57) -> 0
B62: Adult Audience
B63: # of promotions | C63: Date | D63: Group Name & Town | E63: # of People | F63: Presentation Description (Speech, skit, booth, etc.) | G63: Done By P. | H63: Alt. | I63: Jr Rep | J63: Comm. | K63: Key Message
B73: Total Adult Promotions | E73: =SUM(B64:B72) -> 0 | F73: Total People Reached | I73: =SUM(E64:E72) -> 0
B79: Special Events
B80: # of promotions | C80: Date | D80: Event | E80: # of People | F80: Presentation Description (Speech, skit, booth, etc.) | G80: Done By P. | H80: Alt. | I80: Jr Rep | J80: Comm. | K80: Key Message
B90: Total Special Events | E90: =SUM(B81:B89) -> 0 | F90: Total People Reached | I90: =SUM(E81:E89) -> 0
B96: Fill A Glass With Hope
B97: Amount of Money | C97: Date | D97: Event | E97: # of People | F97: Description of Event, Food Bank Name | G97: Done By P. | H97: Alt. | I97: Jr Rep | J97: Comm. | K97: Key Message
B107: Fill A Glass With Hope Money Raised | E107: =SUM(B98:B106) -> 0 | F107: Total People Reached | I107: =SUM(E98:E106) -> 0
B112: State Events
B113: # of Promotions | C113: Date | D113: Event | E113: Names of those Attended | G113: Done By P. | H113: Alt. | I113: Jr Rep | J113: Comm. | K113: Key Message
B123: State Events | E123: =SUM(B114:B122) -> 0

Sheet Calculations
A1: Promotion Calculations
B3: 1st Level | C3: 2nd Level | D3: County's Total
A4: School | B4: 20 | C4: 35 | D4: =SUM(June!E21+July!E20+August!E20+September!E20+October!E20+November!E20+December!E20+January!E20+February!E20+March!E20+April!E20+May!E20) -> 0
A5: Media/Social Media | B5: 24 | C5: 36 | D5: =SUM(June!E35+June!E45+July!E34+July!E43+August!E34+August!E43+September!E34+September!E43+October!E34+October!E43+November!E34+November!E43+December!E43+December!E58+January!E34+January!E43+February!E43+February!E58+March!E34+March!E43+April!E34+April!E43+May!E34+May!E43) -> 0
A6: Booth/Store | B6: 10 | C6: 20 | D6: =SUM(June!E60+July!E57+August!E57+September!E58+October!E58+November!E58+December!E58+January!E58+February!E58+March!E58+April!E58+May!E58) -> 0
A7: Adult Groups | B7: 6 | C7: 12 | D7: =SUM(June!E75+July!E72+August!E72+September!E73+October!E73+November!E73+December!E73+January!E73+February!E73+March!E73+April!E73+May!E73) -> 0
A8: Specials | B8: 10 | C8: 20 | D8: =SUM(June!E92+July!E89+August!E89+September!E90+October!E90+November!E90+December!E90+January!E90+February!E90+March!E90+April!E90+May!E90) -> 0
A9: State Events | B9: 2 | C9: 4 | D9: =SUM(June!E125+July!E122+August!E122+September!E123+October!E123+November!E123+December!E123+January!E123+February!E123+March!E123+April!E123+May!E123) -> 0
A10: Fill A Glass with Hope | D10: =SUM(June!E109+July!E106+August!E106+September!E107+October!E107+November!E107+December!E107+January!E107+February!E107+March!E107+April!E107+May!E107) -> 0
